Workbook

Sheet Vagtplan
A1: Vagtplan – 3-holdsskift (rotation over 3 uger)
A2: Hold A/B/C roterer dag → aften → nat uge for uge. Ret navne og koder som du vil – timer beregnes automatisk.
A3: Startdato (mandag): | B3: 46286
A5: Medarbejder | B5: Man | C5: Tir | D5: Ons | E5: Tor | F5: Fre | G5: Lør | H5: Søn | I5: Man | J5: Tir | K5: Ons | L5: Tor | M5: Fre | N5: Lør | O5: Søn | P5: Man | Q5: Tir | R5: Ons | S5: Tor | T5: Fre | U5: Lør | V5: Søn | W5: Timer
B6: =$B$3+0 | C6: =$B$3+1 | D6: =$B$3+2 | E6: =$B$3+3 | F6: =$B$3+4 | G6: =$B$3+5 | H6: =$B$3+6 | I6: =$B$3+7 | J6: =$B$3+8 | K6: =$B$3+9 | L6: =$B$3+10 | M6: =$B$3+11 | N6: =$B$3+12 | O6: =$B$3+13 | P6: =$B$3+14 | Q6: =$B$3+15 | R6: =$B$3+16 | S6: =$B$3+17 | T6: =$B$3+18 | U6: =$B$3+19 | V6: =$B$3+20
A7: Hold A – medarbejder 1 | B7: D | C7: D | D7: D | E7: D | F7: D | G7: F | H7: F | I7: A | J7: A | K7: A | L7: A | M7: A | N7: F | O7: F | P7: N | Q7: N | R7: N | S7: N | T7: N | U7: F | V7: F | W7: =SUMPRODUCT(SUMIF(Vagtkoder!$A$5:$A$40,B7:V7,Vagtkoder!$E$5:$E$40))
A8: Hold A – medarbejder 2 | B8: D | C8: D | D8: D | E8: D | F8: D | G8: F | H8: F | I8: A | J8: A | K8: A | L8: A | M8: A | N8: F | O8: F | P8: N | Q8: N | R8: N | S8: N | T8: N | U8: F | V8: F | W8: =SUMPRODUCT(SUMIF(Vagtkoder!$A$5:$A$40,B8:V8,Vagtkoder!$E$5:$E$40))
A9: Hold A – medarbejder 3 | B9: D | C9: D | D9: D | E9: D | F9: D | G9: F | H9: F | I9: A | J9: A | K9: A | L9: A | M9: A | N9: F | O9: F | P9: N | Q9: N | R9: N | S9: N | T9: N | U9: F | V9: F | W9: =SUMPRODUCT(SUMIF(Vagtkoder!$A$5:$A$40,B9:V9,Vagtkoder!$E$5:$E$40))
A10: Hold A – medarbejder 4 | B10: D | C10: D | D10: D | E10: D | F10: D | G10: F | H10: F | I10: A | J10: A | K10: A | L10: A | M10: A | N10: F | O10: F | P10: N | Q10: N | R10: N | S10: N | T10: N | U10: F | V10: F | W10: =SUMPRODUCT(SUMIF(Vagtkoder!$A$5:$A$40,B10:V10,Vagtkoder!$E$5:$E$40))
A11: Hold B – medarbejder 1 | B11: A | C11: A | D11: A | E11: A | F11: A | G11: F | H11: F | I11: N | J11: N | K11: N | L11: N | M11: N | N11: F | O11: F | P11: D | Q11: D | R11: D | S11: D | T11: D | U11: F | V11: F | W11: =SUMPRODUCT(SUMIF(Vagtkoder!$A$5:$A$40,B11:V11,Vagtkoder!$E$5:$E$40))
A12: Hold B – medarbejder 2 | B12: A | C12: A | D12: A | E12: A | F12: A | G12: F | H12: F | I12: N | J12: N | K12: N | L12: N | M12: N | N12: F | O12: F | P12: D | Q12: D | R12: D | S12: D | T12: D | U12: F | V12: F | W12: =SUMPRODUCT(SUMIF(Vagtkoder!$A$5:$A$40,B12:V12,Vagtkoder!$E$5:$E$40))
A13: Hold B – medarbejder 3 | B13: A | C13: A | D13: A | E13: A | F13: A | G13: F | H13: F | I13: N | J13: N | K13: N | L13: N | M13: N | N13: F | O13: F | P13: D | Q13: D | R13: D | S13: D | T13: D | U13: F | V13: F | W13: =SUMPRODUCT(SUMIF(Vagtkoder!$A$5:$A$40,B13:V13,Vagtkoder!$E$5:$E$40))
A14: Hold B – medarbejder 4 | B14: A | C14: A | D14: A | E14: A | F14: A | G14: F | H14: F | I14: N | J14: N | K14: N | L14: N | M14: N | N14: F | O14: F | P14: D | Q14: D | R14: D | S14: D | T14: D | U14: F | V14: F | W14: =SUMPRODUCT(SUMIF(Vagtkoder!$A$5:$A$40,B14:V14,Vagtkoder!$E$5:$E$40))
A15: Hold C – medarbejder 1 | B15: N | C15: N | D15: N | E15: N | F15: N | G15: F | H15: F | I15: D | J15: D | K15: D | L15: D | M15: D | N15: F | O15: F | P15: A | Q15: A | R15: A | S15: A | T15: A | U15: F | V15: F | W15: =SUMPRODUCT(SUMIF(Vagtkoder!$A$5:$A$40,B15:V15,Vagtkoder!$E$5:$E$40))
A16: Hold C – medarbejder 2 | B16: N | C16: N | D16: N | E16: N | F16: N | G16: F | H16: F | I16: D | J16: D | K16: D | L16: D | M16: D | N16: F | O16: F | P16: A | Q16: A | R16: A | S16: A | T16: A | U16: F | V16: F | W16: =SUMPRODUCT(SUMIF(Vagtkoder!$A$5:$A$40,B16:V16,Vagtkoder!$E$5:$E$40))
A17: Hold C – medarbejder 3 | B17: N | C17: N | D17: N | E17: N | F17: N | G17: F | H17: F | I17: D | J17: D | K17: D | L17: D | M17: D | N17: F | O17: F | P17: A | Q17: A | R17: A | S17: A | T17: A | U17: F | V17: F | W17: =SUMPRODUCT(SUMIF(Vagtkoder!$A$5:$A$40,B17:V17,Vagtkoder!$E$5:$E$40))
A18: Hold C – medarbejder 4 | B18: N | C18: N | D18: N | E18: N | F18: N | G18: F | H18: F | I18: D | J18: D | K18: D | L18: D | M18: D | N18: F | O18: F | P18: A | Q18: A | R18: A | S18: A | T18: A | U18: F | V18: F | W18: =SUMPRODUCT(SUMIF(Vagtkoder!$A$5:$A$40,B18:V18,Vagtkoder!$E$5:$E$40))
W19: =SUMPRODUCT(SUMIF(Vagtkoder!$A$5:$A$40,B19:V19,Vagtkoder!$E$5:$E$40))
W20: =SUMPRODUCT(SUMIF(Vagtkoder!$A$5:$A$40,B20:V20,Vagtkoder!$E$5:$E$40))
W21: =SUMPRODUCT(SUMIF(Vagtkoder!$A$5:$A$40,B21:V21,Vagtkoder!$E$5:$E$40))
A22: På arbejde pr. dag | B22: =COUNTIF(B7:B21,"D")+COUNTIF(B7:B21,"M")+COUNTIF(B7:B21,"A")+COUNTIF(B7:B21,"N")+COUNTIF(B7:B21,"K") | C22: =COUNTIF(C7:C21,"D")+COUNTIF(C7:C21,"M")+COUNTIF(C7:C21,"A")+COUNTIF(C7:C21,"N")+COUNTIF(C7:C21,"K") | D22: =COUNTIF(D7:D21,"D")+COUNTIF(D7:D21,"M")+COUNTIF(D7:D21,"A")+COUNTIF(D7:D21,"N")+COUNTIF(D7:D21,"K") | E22: =COUNTIF(E7:E21,"D")+COUNTIF(E7:E21,"M")+COUNTIF(E7:E21,"A")+COUNTIF(E7:E21,"N")+COUNTIF(E7:E21,"K") | F22: =COUNTIF(F7:F21,"D")+COUNTIF(F7:F21,"M")+COUNTIF(F7:F21,"A")+COUNTIF(F7:F21,"N")+COUNTIF(F7:F21,"K") | G22: =COUNTIF(G7:G21,"D")+COUNTIF(G7:G21,"M")+COUNTIF(G7:G21,"A")+COUNTIF(G7:G21,"N")+COUNTIF(G7:G21,"K") | H22: =COUNTIF(H7:H21,"D")+COUNTIF(H7:H21,"M")+COUNTIF(H7:H21,"A")+COUNTIF(H7:H21,"N")+COUNTIF(H7:H21,"K") | I22: =COUNTIF(I7:I21,"D")+COUNTIF(I7:I21,"M")+COUNTIF(I7:I21,"A")+COUNTIF(I7:I21,"N")+COUNTIF(I7:I21,"K") | ... V22: =COUNTIF(V7:V21,"D")+COUNTIF(V7:V21,"M")+COUNTIF(V7:V21,"A")+COUNTIF(V7:V21,"N")+COUNTIF(V7:V21,"K") | W22: =SUM(W7:W21)
A24: Gratis skabelon fra SimpelVagtplan.dk – lav vagtplanen online på simpelvagtplan.dk (ingen konto, print, PDF og Excel).

Sheet Vagtkoder
A1: Vagtkoder
A2: Ret koder, tider og timetal her – timeberegningen i planen bruger denne tabel.
A4: Kode | B4: Beskrivelse | C4: Fra | D4: Til | E4: Timer
A5: D | B5: Dagvagt | C5: 08:00 | D5: 16:00 | E5: 8
A6: M | B6: Morgenvagt | C6: 06:00 | D6: 14:00 | E6: 8
A7: A | B7: Aftenvagt | C7: 16:00 | D7: 00:00 | E7: 8
A8: N | B8: Nattevagt | C8: 00:00 | D8: 08:00 | E8: 8
A9: F | B9: Fri | E9: 0
A10: FE | B10: Ferie | E10: 0
A11: S | B11: Syg | E11: 0
A12: K | B12: Kursus | E12: 8
A14: Tip: Du kan tilføje egne koder i tomme rækker under tabellen (fx D1, D2, AV).
