Workbook

Sheet Vagtplan
A1: Vagtplan – måned (5 uger)
A2: Skriv månedens første mandag i B3. Brug vagtkoderne fra fanen 'Vagtkoder'. Timer beregnes automatisk.
A3: Startdato (mandag): | B3: 46286
A5: Medarbejder | B5: Man | C5: Tir | D5: Ons | E5: Tor | F5: Fre | G5: Lør | H5: Søn | I5: Man | J5: Tir | K5: Ons | L5: Tor | M5: Fre | N5: Lør | O5: Søn | P5: Man | Q5: Tir | R5: Ons | S5: Tor | T5: Fre | U5: Lør | V5: Søn | W5: Man | X5: Tir | Y5: Ons | Z5: Tor | AA5: Fre | AB5: Lør | AC5: Søn | AD5: Man | AE5: Tir | AF5: Ons | AG5: Tor | AH5: Fre | AI5: Lør | AJ5: Søn | AK5: Timer
B6: =$B$3+0 | C6: =$B$3+1 | D6: =$B$3+2 | E6: =$B$3+3 | F6: =$B$3+4 | G6: =$B$3+5 | H6: =$B$3+6 | I6: =$B$3+7 | J6: =$B$3+8 | K6: =$B$3+9 | L6: =$B$3+10 | M6: =$B$3+11 | N6: =$B$3+12 | O6: =$B$3+13 | P6: =$B$3+14 | Q6: =$B$3+15 | R6: =$B$3+16 | S6: =$B$3+17 | T6: =$B$3+18 | U6: =$B$3+19 | V6: =$B$3+20 | W6: =$B$3+21 | X6: =$B$3+22 | Y6: =$B$3+23 | Z6: =$B$3+24 | AA6: =$B$3+25 | AB6: =$B$3+26 | AC6: =$B$3+27 | AD6: =$B$3+28 | AE6: =$B$3+29 | AF6: =$B$3+30 | AG6: =$B$3+31 | AH6: =$B$3+32 | AI6: =$B$3+33 | AJ6: =$B$3+34
AK7: =SUMPRODUCT(SUMIF(Vagtkoder!$A$5:$A$40,B7:AJ7,Vagtkoder!$E$5:$E$40))
AK8: =SUMPRODUCT(SUMIF(Vagtkoder!$A$5:$A$40,B8:AJ8,Vagtkoder!$E$5:$E$40))
AK9: =SUMPRODUCT(SUMIF(Vagtkoder!$A$5:$A$40,B9:AJ9,Vagtkoder!$E$5:$E$40))
AK10: =SUMPRODUCT(SUMIF(Vagtkoder!$A$5:$A$40,B10:AJ10,Vagtkoder!$E$5:$E$40))
AK11: =SUMPRODUCT(SUMIF(Vagtkoder!$A$5:$A$40,B11:AJ11,Vagtkoder!$E$5:$E$40))
AK12: =SUMPRODUCT(SUMIF(Vagtkoder!$A$5:$A$40,B12:AJ12,Vagtkoder!$E$5:$E$40))
AK13: =SUMPRODUCT(SUMIF(Vagtkoder!$A$5:$A$40,B13:AJ13,Vagtkoder!$E$5:$E$40))
AK14: =SUMPRODUCT(SUMIF(Vagtkoder!$A$5:$A$40,B14:AJ14,Vagtkoder!$E$5:$E$40))
AK15: =SUMPRODUCT(SUMIF(Vagtkoder!$A$5:$A$40,B15:AJ15,Vagtkoder!$E$5:$E$40))
AK16: =SUMPRODUCT(SUMIF(Vagtkoder!$A$5:$A$40,B16:AJ16,Vagtkoder!$E$5:$E$40))
AK17: =SUMPRODUCT(SUMIF(Vagtkoder!$A$5:$A$40,B17:AJ17,Vagtkoder!$E$5:$E$40))
AK18: =SUMPRODUCT(SUMIF(Vagtkoder!$A$5:$A$40,B18:AJ18,Vagtkoder!$E$5:$E$40))
... AK26: =SUMPRODUCT(SUMIF(Vagtkoder!$A$5:$A$40,B26:AJ26,Vagtkoder!$E$5:$E$40))
A27: På arbejde pr. dag | B27: =COUNTIF(B7:B26,"D")+COUNTIF(B7:B26,"M")+COUNTIF(B7:B26,"A")+COUNTIF(B7:B26,"N")+COUNTIF(B7:B26,"K") | C27: =COUNTIF(C7:C26,"D")+COUNTIF(C7:C26,"M")+COUNTIF(C7:C26,"A")+COUNTIF(C7:C26,"N")+COUNTIF(C7:C26,"K") | D27: =COUNTIF(D7:D26,"D")+COUNTIF(D7:D26,"M")+COUNTIF(D7:D26,"A")+COUNTIF(D7:D26,"N")+COUNTIF(D7:D26,"K") | E27: =COUNTIF(E7:E26,"D")+COUNTIF(E7:E26,"M")+COUNTIF(E7:E26,"A")+COUNTIF(E7:E26,"N")+COUNTIF(E7:E26,"K") | F27: =COUNTIF(F7:F26,"D")+COUNTIF(F7:F26,"M")+COUNTIF(F7:F26,"A")+COUNTIF(F7:F26,"N")+COUNTIF(F7:F26,"K") | G27: =COUNTIF(G7:G26,"D")+COUNTIF(G7:G26,"M")+COUNTIF(G7:G26,"A")+COUNTIF(G7:G26,"N")+COUNTIF(G7:G26,"K") | H27: =COUNTIF(H7:H26,"D")+COUNTIF(H7:H26,"M")+COUNTIF(H7:H26,"A")+COUNTIF(H7:H26,"N")+COUNTIF(H7:H26,"K") | I27: =COUNTIF(I7:I26,"D")+COUNTIF(I7:I26,"M")+COUNTIF(I7:I26,"A")+COUNTIF(I7:I26,"N")+COUNTIF(I7:I26,"K") | ... AJ27: =COUNTIF(AJ7:AJ26,"D")+COUNTIF(AJ7:AJ26,"M")+COUNTIF(AJ7:AJ26,"A")+COUNTIF(AJ7:AJ26,"N")+COUNTIF(AJ7:AJ26,"K") | AK27: =SUM(AK7:AK26)
A29: Gratis skabelon fra SimpelVagtplan.dk – lav vagtplanen online på simpelvagtplan.dk (ingen konto, print, PDF og Excel).

Sheet Vagtkoder
A1: Vagtkoder
A2: Ret koder, tider og timetal her – timeberegningen i planen bruger denne tabel.
A4: Kode | B4: Beskrivelse | C4: Fra | D4: Til | E4: Timer
A5: D | B5: Dagvagt | C5: 08:00 | D5: 16:00 | E5: 8
A6: M | B6: Morgenvagt | C6: 06:00 | D6: 14:00 | E6: 8
A7: A | B7: Aftenvagt | C7: 16:00 | D7: 00:00 | E7: 8
A8: N | B8: Nattevagt | C8: 00:00 | D8: 08:00 | E8: 8
A9: F | B9: Fri | E9: 0
A10: FE | B10: Ferie | E10: 0
A11: S | B11: Syg | E11: 0
A12: K | B12: Kursus | E12: 8
A14: Tip: Du kan tilføje egne koder i tomme rækker under tabellen (fx D1, D2, AV).
